BEGIN:VCALENDAR
VERSION:2.0
PRODID:-//Funraisers Comedy - ECPv6.15.20//NONSGML v1.0//EN
CALSCALE:GREGORIAN
METHOD:PUBLISH
X-WR-CALNAME:Funraisers Comedy
X-ORIGINAL-URL:https://funraiserscomedy.com
X-WR-CALDESC:Events for Funraisers Comedy
REFRESH-INTERVAL;VALUE=DURATION:PT1H
X-Robots-Tag:noindex
X-PUBLISHED-TTL:PT1H
BEGIN:VTIMEZONE
TZID:America/New_York
BEGIN:DAYLIGHT
TZOFFSETFROM:-0500
TZOFFSETTO:-0400
TZNAME:EDT
DTSTART:20220313T070000
END:DAYLIGHT
BEGIN:STANDARD
TZOFFSETFROM:-0400
TZOFFSETTO:-0500
TZNAME:EST
DTSTART:20221106T060000
END:STANDARD
BEGIN:DAYLIGHT
TZOFFSETFROM:-0500
TZOFFSETTO:-0400
TZNAME:EDT
DTSTART:20230312T070000
END:DAYLIGHT
BEGIN:STANDARD
TZOFFSETFROM:-0400
TZOFFSETTO:-0500
TZNAME:EST
DTSTART:20231105T060000
END:STANDARD
BEGIN:DAYLIGHT
TZOFFSETFROM:-0500
TZOFFSETTO:-0400
TZNAME:EDT
DTSTART:20240310T070000
END:DAYLIGHT
BEGIN:STANDARD
TZOFFSETFROM:-0400
TZOFFSETTO:-0500
TZNAME:EST
DTSTART:20241103T060000
END:STANDARD
BEGIN:DAYLIGHT
TZOFFSETFROM:-0500
TZOFFSETTO:-0400
TZNAME:EDT
DTSTART:20250309T070000
END:DAYLIGHT
BEGIN:STANDARD
TZOFFSETFROM:-0400
TZOFFSETTO:-0500
TZNAME:EST
DTSTART:20251102T060000
END:STANDARD
BEGIN:DAYLIGHT
TZOFFSETFROM:-0500
TZOFFSETTO:-0400
TZNAME:EDT
DTSTART:20260308T070000
END:DAYLIGHT
BEGIN:STANDARD
TZOFFSETFROM:-0400
TZOFFSETTO:-0500
TZNAME:EST
DTSTART:20261101T060000
END:STANDARD
END:VTIMEZONE
BEGIN:VTIMEZONE
TZID:UTC
BEGIN:STANDARD
TZOFFSETFROM:+0000
TZOFFSETTO:+0000
TZNAME:UTC
DTSTART:20210101T000000
END:STANDARD
END:VTIMEZONE
BEGIN:VTIMEZONE
TZID:Asia/Krasnoyarsk
BEGIN:STANDARD
TZOFFSETFROM:+0700
TZOFFSETTO:+0700
TZNAME:+07
DTSTART:20190101T000000
END:STANDARD
END:VTIMEZONE
BEGIN:VEVENT
DTSTART;TZID=America/New_York:20250712T190000
DTEND;TZID=America/New_York:20250712T220000
DTSTAMP:20260422T181425
CREATED:20250528T195908Z
LAST-MODIFIED:20250528T195908Z
UID:30206-1752346800-1752357600@funraiserscomedy.com
SUMMARY:Hot Summer Comedy Night
DESCRIPTION:Join us on July 12\, 2025 at The Reading Room at 134 Elm Street in Cheshire\, CT for a night full of comedy. The headliner\, Moody McCarthy has appeared on Jimmy Kimmel Live\, the Late Show with David Letterman and the Last Comic Standing. Our night features Paul Taro\, viral instagrammer and funniest comic in CT runner up. Hosted by Cheshire’s own Rick Roberts. \nDownload our flyer here: reread books 07 12 2025 \n  \n 
URL:https://funraiserscomedy.com/event/hot-summer-comedy-night-2/
LOCATION:The Reading Room\, 134 Elm Street\, Cheshire\, CT
END:VEVENT
BEGIN:VEVENT
DTSTART;TZID=America/New_York:20250517T190000
DTEND;TZID=America/New_York:20250517T220000
DTSTAMP:20260422T181425
CREATED:20250305T183912Z
LAST-MODIFIED:20250305T183912Z
UID:30195-1747508400-1747519200@funraiserscomedy.com
SUMMARY:Cheshire Rotary Comedy Night
DESCRIPTION:Get Ready for a Night of Laughter! \nJoin us for an unforgettable night of comedy featuring Moody McCarthy as the headliner! With appearances on Late Show with David Letterman and Jimmy Kimmel Live\, Moody’s razor-sharp wit and relatable humor will have you in stitches. \nThe night also features the hilarious Howie Mason\, known for his clever observations and quick punchlines\, and is hosted by the always entertaining Rick Roberts. \nDon’t miss out on a night of non-stop laughter—grab your tickets now!
URL:https://funraiserscomedy.com/event/cheshire-rotary-comedy-night/
LOCATION:The Reading Room\, 134 Elm Street\, Cheshire\, CT
END:VEVENT
BEGIN:VEVENT
DTSTART;TZID=America/New_York:20250509T180000
DTEND;TZID=America/New_York:20250509T210000
DTSTAMP:20260422T181425
CREATED:20250409T181134Z
LAST-MODIFIED:20250409T181238Z
UID:30200-1746813600-1746824400@funraiserscomedy.com
SUMMARY:Comedy Show to Support Cheshire Lacrosse Club
DESCRIPTION:Enjoy a night full of laughs while supporting Cheshire Lacrosse Club. \nHeadliner is Chris Monty\, Featuring Rick Roberts and Hosted by Kevin Fitzgerald. \nClick here for tickets. \nSee here for flyer: Fundraiser Cheshire Lacrosse 2025
URL:https://funraiserscomedy.com/event/comedy-show-to-support-cheshire-lacrosse-club/
LOCATION:The Reading Room\, 134 Elm Street\, Cheshire\, CT
END:VEVENT
BEGIN:VEVENT
DTSTART;TZID=America/New_York:20250426T190000
DTEND;TZID=America/New_York:20250426T210000
DTSTAMP:20260422T181425
CREATED:20250409T182848Z
LAST-MODIFIED:20250409T182848Z
UID:30203-1745694000-1745701200@funraiserscomedy.com
SUMMARY:Cheshire Comedy Night
DESCRIPTION:Come out on April 26th for a wonderful comedy night! \nHeadliner: Moody McCarthy\nAs seen on Last Comic Standing\, Jimmy Kimmel Live\, Late Show with David Letterman\, The Early Show \nHost: Rick Roberts\nAs seen at Mohegan Sun\, Foxwoods\, Palace Theatre (Waterbury)\, Treehouse Comedy Club \nFeaturing: Vincent McElhone\nAs seen at Tropicana Hotel in Vegas\, The Improv in Dallas\, The Comedy Store in LA\, Zany’s in Chicago\, Catch a Rising Star in Reno\, and Mohegan Sun and the Treehouse Comedy Clubs \nFeaturing: Cara Amore\nAs soon in the variety troupe “Italian Chicks” and the acting troupe “Improbable Players”. Opened for Gilbert Gottfried \nContact Stuart Post @ (203) 250-9313 for tickets. \n  \n 
URL:https://funraiserscomedy.com/event/cheshire-comedy-night-2/
LOCATION:Cheshire Masonic Lodge\, 9 Country Club Road\, Cheshire\, CT\, 06410\, United States
END:VEVENT
BEGIN:VEVENT
DTSTART;TZID=America/New_York:20250314T193000
DTEND;TZID=America/New_York:20250314T223000
DTSTAMP:20260422T181425
CREATED:20250210T160859Z
LAST-MODIFIED:20250210T160859Z
UID:30191-1741980600-1741991400@funraiserscomedy.com
SUMMARY:Silk 'N Sounds Ha Ha for Harmony Comedy Show 3/14/25
DESCRIPTION:Headliner: Moody McCarthy\, Hosted by Rick Roberts\, Featuring Paul Taro: Flyer \nCash Bar\, BYO Snacks. Will have pies for sale!\nTickets: $30.00\nFor Reservations Contact Carol Roberts: Carobs22@gmail.com \n 
URL:https://funraiserscomedy.com/event/silk-n-sounds-ha-ha-for-harmony-comedy-show-3-14-25/
LOCATION:Knights of Columbus\, 2630 Whitney Ave\, Hamden
END:VEVENT
BEGIN:VEVENT
DTSTART;TZID=America/New_York:20241115T180000
DTEND;TZID=America/New_York:20241115T210000
DTSTAMP:20260422T181425
CREATED:20241001T174236Z
LAST-MODIFIED:20241017T154147Z
UID:30174-1731693600-1731704400@funraiserscomedy.com
SUMMARY:ReRead Comedy Night
DESCRIPTION:See our flyer here: Flyer! \nHeadliner: Jon Fisch\, Featuring: Kareem Blue\, Hosted By: Rick Roberts \n 
URL:https://funraiserscomedy.com/event/reread-comedy-night/
LOCATION:The Reading Room\, 134 Elm Street\, Cheshire\, CT
END:VEVENT
BEGIN:VEVENT
DTSTART;TZID=America/New_York:20240914T193000
DTEND;TZID=America/New_York:20240914T230000
DTSTAMP:20260422T181425
CREATED:20240724T213011Z
LAST-MODIFIED:20240724T213011Z
UID:30161-1726342200-1726354800@funraiserscomedy.com
SUMMARY:Castle Craig Comedy Night!
DESCRIPTION:SATURDAY\, SEPTEMBER 14\nTWO SHOWS! 7:30 & 9:15 PM\n \n\n\n\n\n\nBUY TICKETS\n\n\n\n\n\n\nBring Your Own Food & Beverages!\nJoin us for an evening of non-stop laughter and entertainment at our first ever Comedy Night! Whether you’re a comedy enthusiast or just love a good laugh\, this event promises to deliver endless laughs and memorable moments – all while supporting Castle Craig Players! Gather your friends\, grab your tickets\, and get ready to laugh until it hurts. \nCHRIS MONTY is one of New York’s busier comedians\, entertaining audiences with his mix of modern comedy with a vintage 1960s charm. Find him in his latest comedy specials on amazon Prime\, “What’s the Worst that Could Happen” and “Red Oaks\,” and his HBO special “Vinyl.” You may have also seen him Off-Broadway in an original award nominated play that he co-wrote “Shut Up\, Sit Down & Eat!” Along with being a regular at New York’s best comedy clubs\, Chris is a terrific actor who you may have seen in the comedy film “Mall Cop: Blart 2” in 2015. He wrote for “The Joan Rivers Radio Show” and hosted his own show on Long Island’s WGBB radio. Along with numerous stints as an opening act for Joan Rivers and B.B. King\, Chris headlines in Atlantic City\, Las Vegas and Reno. \nRICK ROBERTS is originally from New York City and lives in Connecticut. Rick performs regularly at clubs and venues throughout New England and New York including Mohegan Sun Cabaret\, Foxwoods\, the Palace Theater (Waterbury)\, Infinity Music Hall\, Joker’s Wild\, Stand Up New York and Broadway Comedy Club. Rick also produces fundraiser shows. Rick has shared the stage with Jerry Seinfeld\, Chris Rock and Jim Gaffigan. \n\n\n\nSeating is limited\, so get your tickets today! \n\nAGES 18 & OVER ONLY\, PLEASE.\nProduced in association with FunRaisers Comedy.
URL:https://funraiserscomedy.com/event/castle-craig-comedy-night/
END:VEVENT
BEGIN:VEVENT
DTSTART;TZID=America/New_York:20240824T180000
DTEND;TZID=America/New_York:20240824T210000
DTSTAMP:20260422T181425
CREATED:20240711T142240Z
LAST-MODIFIED:20240815T141730Z
UID:30142-1724522400-1724533200@funraiserscomedy.com
SUMMARY:*Postponed: To be rescheduled in the fall* Hot Summer Comedy Night
DESCRIPTION:This show is postponed\, to be rescheduled in the fall. Please stay tuned! \nDownload Flyer Here: reread books August 24 2024 \nShow starts at 7:30 \nHeadliner: Jon Fisch.  Hosted by Cheshire’s own Rick Roberts. See Eventbrite link for tickets or call (203) 250-3312 \n \n 
URL:https://funraiserscomedy.com/event/hot-summer-comedy-night/
LOCATION:The Reading Room\, 134 Elm Street\, Cheshire\, CT
END:VEVENT
BEGIN:VEVENT
DTSTART;TZID=UTC:20240818T173000
DTEND;TZID=UTC:20240818T193000
DTSTAMP:20260422T181425
CREATED:20210724T001431Z
LAST-MODIFIED:20240815T141326Z
UID:29981-1724002200-1724009400@funraiserscomedy.com
SUMMARY:*Cancelled: May Be Rescheduled 9/15\, Stay Tuned* Copper Valley Club's Comedy Night
DESCRIPTION:This show is cancelled. It may be rescheduled for September 15\, 2024. Please stay tuned! \nBYO food\, beverages\, and chairs.  You need not be a CVC member to attend\, Spread the word! \nSee our Flyer Here \n  \n 
URL:https://funraiserscomedy.com/event/copper-valley-clubs-comedy-night/
LOCATION:The Copper Valley Club\, 5 Copper Valley Court\, Cheshire\, CT\, 06410
END:VEVENT
BEGIN:VEVENT
DTSTART;TZID=America/New_York:20240607T183000
DTEND;TZID=America/New_York:20240607T220000
DTSTAMP:20260422T181425
CREATED:20240412T183407Z
LAST-MODIFIED:20240412T183407Z
UID:30129-1717785000-1717797600@funraiserscomedy.com
SUMMARY:Fundraiser to Combat Food Insecurity
DESCRIPTION:
URL:https://funraiserscomedy.com/event/fundraiser-to-combat-food-insecurity/
LOCATION:Torrington Elks\, 70 Litchfield Street\, Torrington\, CT\, 06790
END:VEVENT
BEGIN:VEVENT
DTSTART;TZID=America/New_York:20240504T190000
DTEND;TZID=America/New_York:20240504T220000
DTSTAMP:20260422T181425
CREATED:20240412T183019Z
LAST-MODIFIED:20240429T155611Z
UID:30124-1714849200-1714860000@funraiserscomedy.com
SUMMARY:Cheshire Rotary Club Comedy Show
DESCRIPTION:  \n \n  \n 
URL:https://funraiserscomedy.com/event/cheshire-rotary-club-comedy-show/
LOCATION:Cheshire Masonic Lodge\, 9 Country Club Road\, Cheshire\, CT\, 06410\, United States
END:VEVENT
BEGIN:VEVENT
DTSTART;TZID=America/New_York:20240420T220000
DTEND;TZID=America/New_York:20240420T233000
DTSTAMP:20260422T181425
CREATED:20240416T151826Z
LAST-MODIFIED:20240416T151826Z
UID:30133-1713650400-1713655800@funraiserscomedy.com
SUMMARY:**SOLD OUT** Masonic Lodge Comedy Show
DESCRIPTION:
URL:https://funraiserscomedy.com/event/sold-out-masonic-lodge-comedy-show/
END:VEVENT
BEGIN:VEVENT
DTSTART;TZID=UTC:20230513T193000
DTEND;TZID=UTC:20230513T220000
DTSTAMP:20260422T181425
CREATED:20230120T022302Z
LAST-MODIFIED:20230309T221645Z
UID:30071-1684006200-1684015200@funraiserscomedy.com
SUMMARY:Brookfield Theatre Comedy Night
DESCRIPTION:Doors open 7:30\, show 8. Featuring Alex McHale\, Tony Liberati\, and Rick Roberts. See flyer below. \n  \nBrookfield Library Foundation Flyer
URL:https://funraiserscomedy.com/event/brookfield-theatre-comedy-night/
END:VEVENT
BEGIN:VEVENT
DTSTART;TZID=America/New_York:20230506T190000
DTEND;TZID=America/New_York:20230506T220000
DTSTAMP:20260422T181425
CREATED:20230417T202014Z
LAST-MODIFIED:20230417T202048Z
UID:30108-1683399600-1683410400@funraiserscomedy.com
SUMMARY:Cheshire Comedy Night
DESCRIPTION:Contact Rick Roberts for more information and tickets.
URL:https://funraiserscomedy.com/event/cheshire-comedy-night/
LOCATION:Rotary Club of Southington\, 286 Maple Ave\, Cheshire\, CT\, 06410\, United States
END:VEVENT
BEGIN:VEVENT
DTSTART;TZID=UTC:20230428T193000
DTEND;TZID=UTC:20230428T230000
DTSTAMP:20260422T181425
CREATED:20230120T020610Z
LAST-MODIFIED:20230417T201708Z
UID:30069-1682710200-1682722800@funraiserscomedy.com
SUMMARY:North Haven Education Foundation Comedy Night
DESCRIPTION:Doors open at 6\, show starts at 7:30.  Featuring Chris Monty\, Howie Mason and Rick Roberts. Contact Rick Roberts for tickets.
URL:https://funraiserscomedy.com/event/fundraiser-comedy-night/
LOCATION:Knights of Columbus\, 2630 Whitney Ave\, Hamden
END:VEVENT
BEGIN:VEVENT
DTSTART;TZID=America/New_York:20230422T180000
DTEND;TZID=America/New_York:20230422T220000
DTSTAMP:20260422T181425
CREATED:20230309T220531Z
LAST-MODIFIED:20230322T194034Z
UID:30090-1682186400-1682200800@funraiserscomedy.com
SUMMARY:Comedy Night & Silent Auction Fundraiser for Reread Books & More
DESCRIPTION:Doors open at 6:00\, show starts at 7:30. Silent auction 6-9:30 pm. Featuring Tony Liberati\, Alex McHale and Rick Roberts. \nPreorder Tickets at $25\, $30 at the door \n Purchase at:  https://www.eventbrite.com/e/comedy-night-silent-auction-tickets-585881807257 \n Preorder a Charcuterie board for two from Newbrook Kitchen for $25. Send email with order to: Newbrookkitchen@gmail.com. \nFlyer \n 
URL:https://funraiserscomedy.com/event/comedy-night-fundraiser-for-reread-books-more-connecticut-community-empowerment-foundation/
LOCATION:St. Peter’s Church\, 59 Main Street\, Cheshire\, CT\, 06410\, United States
END:VEVENT
BEGIN:VEVENT
DTSTART;TZID=UTC:20230401T193000
DTEND;TZID=UTC:20230401T230000
DTSTAMP:20260422T181425
CREATED:20230120T020441Z
LAST-MODIFIED:20230308T224325Z
UID:30067-1680377400-1680390000@funraiserscomedy.com
SUMMARY:Cheshire Masonic Comedy Night
DESCRIPTION:Featuring Rick Roberts\, Alex McHale\, Steven Arenholz\, Darren Sechrist.
URL:https://funraiserscomedy.com/event/cheshire-masonic-comedy-night/
LOCATION:Cheshire Masonic Lodge\, 9 Country Club Road\, Cheshire\, CT\, 06410\, United States
END:VEVENT
BEGIN:VEVENT
DTSTART;TZID=UTC:20230311T190000
DTEND;TZID=UTC:20230311T220000
DTSTAMP:20260422T181425
CREATED:20230120T020258Z
LAST-MODIFIED:20230308T223455Z
UID:30065-1678561200-1678572000@funraiserscomedy.com
SUMMARY:Comedy Show Manchester\, CT
DESCRIPTION:See flyer. Featuring Rick Roberts\, John Fisch and Alex McHale.  Tickets are $25 and available online at myshul.org. Doors open at 7\, show starts at 7:45. Light refreshments-BYOB/W. \n  \n \n 
URL:https://funraiserscomedy.com/event/comedy-show-hartford/
LOCATION:Beth Solom B’nail Israel\, 400 East Middle Turnpike\, Manchester\, CT\, United States
END:VEVENT
BEGIN:VEVENT
DTSTART;TZID=America/New_York:20230310T183000
DTEND;TZID=America/New_York:20230310T220000
DTSTAMP:20260422T181425
CREATED:20230308T223944Z
LAST-MODIFIED:20230308T223944Z
UID:30084-1678473000-1678485600@funraiserscomedy.com
SUMMARY:North Branford Project Graduation Presents Cabaret Comedy Night
DESCRIPTION:Tickets $25. Doors open 6:30\, show 7:30. Featuring Bill Winn and Rick Roberts. See flyer below. For more information contact Liz at enhoskins@sbcglobal.net. \n \n 
URL:https://funraiserscomedy.com/event/north-branford-project-graduation-presents-cabaret-comedy-night/
LOCATION:Old Stone Church\, 251 Main Street\, East Haven\, CT\, 06512\, United States
END:VEVENT
BEGIN:VEVENT
DTSTART;TZID=UTC:20230205T193000
DTEND;TZID=UTC:20230205T220000
DTSTAMP:20260422T181425
CREATED:20221001T015129Z
LAST-MODIFIED:20230120T020040Z
UID:30007-1675625400-1675634400@funraiserscomedy.com
SUMMARY:Private Fundraising Event
DESCRIPTION:
URL:https://funraiserscomedy.com/event/comedy-show-in-trumbull-ct/
END:VEVENT
BEGIN:VEVENT
DTSTART;TZID=UTC:20230203T190000
DTEND;TZID=UTC:20230203T230000
DTSTAMP:20260422T181425
CREATED:20230120T012554Z
LAST-MODIFIED:20230120T014746Z
UID:30058-1675450800-1675465200@funraiserscomedy.com
SUMMARY:Devonshire Hall Comedy Night
DESCRIPTION:Doors open at 7\, show at 8. Hosted by The Great Vourasini featuring Rick Roberts\, Bob Luparello and Max Colcelli. \nClick here for our flyer
URL:https://funraiserscomedy.com/event/devonshire-hall-comedy-night/
LOCATION:Devonshire Hall\, 105 Sanford Street\, Hamden\, CT\, United States
END:VEVENT
BEGIN:VEVENT
DTSTART;TZID=UTC:20230119T190000
DTEND;TZID=UTC:20230119T220000
DTSTAMP:20260422T181425
CREATED:20230120T020150Z
LAST-MODIFIED:20230120T020150Z
UID:30063-1674154800-1674165600@funraiserscomedy.com
SUMMARY:Private Fundraising Event Cheshire
DESCRIPTION:
URL:https://funraiserscomedy.com/event/private-fundraising-event-cheshire/
END:VEVENT
BEGIN:VEVENT
DTSTART;TZID=UTC:20221119T200000
DTEND;TZID=UTC:20221119T220000
DTSTAMP:20260422T181425
CREATED:20221004T230311Z
LAST-MODIFIED:20221012T221002Z
UID:30023-1668888000-1668895200@funraiserscomedy.com
SUMMARY:Strand Theater Comedy Night Fundraiser
DESCRIPTION:flyer 11 19 22 \nPlease contact Richard Roberts at Rroberts@nuzzo-roberts.com for tickets and more information.
URL:https://funraiserscomedy.com/event/strand-theater-seymour/
LOCATION:Strand Theater\, 165 Main Street\, Seymour\, Connecticut\, 06483
END:VEVENT
BEGIN:VEVENT
DTSTART;TZID=UTC:20221112T193000
DTEND;TZID=UTC:20221112T220000
DTSTAMP:20260422T181425
CREATED:20221001T014951Z
LAST-MODIFIED:20221012T221055Z
UID:30004-1668281400-1668290400@funraiserscomedy.com
SUMMARY:Black Rock Yacht Club
DESCRIPTION:Headliner Billy Winn Featuring Rick Roberts and Howie Mason. Please contact Richard Roberts at Rroberts@nuzzo-roberts.com for tickets and more information.
URL:https://funraiserscomedy.com/event/comedy-show-at-black-rock-yacht-club/
LOCATION:Black Rock Yacht Club\, 80 Grovers Ave\, Bridgeport\, 06605\, United States
END:VEVENT
BEGIN:VEVENT
DTSTART;TZID=UTC:20221022T193000
DTEND;TZID=UTC:20221022T220000
DTSTAMP:20260422T181425
CREATED:20221001T014651Z
LAST-MODIFIED:20221004T230341Z
UID:30001-1666467000-1666476000@funraiserscomedy.com
SUMMARY:Private Event at the Watertown Golf Club
DESCRIPTION:
URL:https://funraiserscomedy.com/event/private-event-at-the-watertown-golf-club/
LOCATION:Watertown Golf Club\, 246 Guernseytown Rd\, Watertown\, CT\, 06795\, United States
END:VEVENT
BEGIN:VEVENT
DTSTART;TZID=UTC:20221021T193000
DTEND;TZID=UTC:20221021T220000
DTSTAMP:20260422T181425
CREATED:20221001T014236Z
LAST-MODIFIED:20221012T220850Z
UID:29998-1666380600-1666389600@funraiserscomedy.com
SUMMARY:Silk 'N Sounds Fundraiser-Hamden
DESCRIPTION:October 21 Flyer to download \nFor reservations please contact Carol Roberts at Carobs22@gmail.com
URL:https://funraiserscomedy.com/event/fundraiser-for-silk-n-sounds/
LOCATION:Knights of Columbus\, 2630 Whitney Ave\, Hamden
END:VEVENT
BEGIN:VEVENT
DTSTART;TZID=UTC:20221015T200000
DTEND;TZID=UTC:20221015T220000
DTSTAMP:20260422T181425
CREATED:20221001T013443Z
LAST-MODIFIED:20221012T220125Z
UID:29994-1665864000-1665871200@funraiserscomedy.com
SUMMARY:Cheshire Masonic Lodge
DESCRIPTION:Comedy Night Flier 10-15-2022 \n \n 
URL:https://funraiserscomedy.com/event/comedy-show-featuring-rick-roberts/
LOCATION:Cheshire Masonic Lodge\, 9 Country Club Road\, Cheshire\, CT\, 06410\, United States
END:VEVENT
BEGIN:VEVENT
DTSTART;TZID=UTC:20221007T180000
DTEND;TZID=UTC:20221007T180000
DTSTAMP:20260422T181425
CREATED:20221004T225955Z
LAST-MODIFIED:20221004T225955Z
UID:30014-1665165600-1665165600@funraiserscomedy.com
SUMMARY:Avon UNICO Presents First Annual Charity Comedy Night
DESCRIPTION:
URL:https://funraiserscomedy.com/event/avon-unico-presents-first-annual-charity-comedy-night/
LOCATION:Farmington Polo Club\, 162 Town Farm Road\, Farmington\, CT\, United States
END:VEVENT
BEGIN:VEVENT
DTSTART;TZID=UTC:20221001T190000
DTEND;TZID=UTC:20221001T220000
DTSTAMP:20260422T181425
CREATED:20221001T010710Z
LAST-MODIFIED:20221001T013553Z
UID:29990-1664650800-1664661600@funraiserscomedy.com
SUMMARY:Stand Up Comedy Show Fundraiser
DESCRIPTION:
URL:https://funraiserscomedy.com/event/stand-up-comedy-show-fundraiser/
LOCATION:Branford Elks Club\, 158 S Montowese St.\, Branford\, CT\, United States
END:VEVENT
BEGIN:VEVENT
DTSTART;TZID=Asia/Krasnoyarsk:20200906T190000
DTEND;TZID=Asia/Krasnoyarsk:20200906T210000
DTSTAMP:20260422T181425
CREATED:20200727T223237Z
LAST-MODIFIED:20210628T223410Z
UID:29737-1599418800-1599426000@funraiserscomedy.com
SUMMARY:Fund Raising Night Out
DESCRIPTION:
URL:https://funraiserscomedy.com/event/fund-raising-night-out/
LOCATION:Joeys Bar\, 123 Main Street\, Milldale\, CT\, 06467\, United States
ORGANIZER;CN="Joey":MAILTO:mail@kinsmenbrewing.com
END:VEVENT
END:VCALENDAR