BEGIN:VCALENDAR
VERSION:2.0
PRODID:-//Funraisers Comedy - ECPv6.15.20//NONSGML v1.0//EN
CALSCALE:GREGORIAN
METHOD:PUBLISH
X-WR-CALNAME:Funraisers Comedy
X-ORIGINAL-URL:https://funraiserscomedy.com
X-WR-CALDESC:Events for Funraisers Comedy
REFRESH-INTERVAL;VALUE=DURATION:PT1H
X-Robots-Tag:noindex
X-PUBLISHED-TTL:PT1H
BEGIN:VTIMEZONE
TZID:America/New_York
BEGIN:DAYLIGHT
TZOFFSETFROM:-0500
TZOFFSETTO:-0400
TZNAME:EDT
DTSTART:20250309T070000
END:DAYLIGHT
BEGIN:STANDARD
TZOFFSETFROM:-0400
TZOFFSETTO:-0500
TZNAME:EST
DTSTART:20251102T060000
END:STANDARD
BEGIN:DAYLIGHT
TZOFFSETFROM:-0500
TZOFFSETTO:-0400
TZNAME:EDT
DTSTART:20260308T070000
END:DAYLIGHT
BEGIN:STANDARD
TZOFFSETFROM:-0400
TZOFFSETTO:-0500
TZNAME:EST
DTSTART:20261101T060000
END:STANDARD
BEGIN:DAYLIGHT
TZOFFSETFROM:-0500
TZOFFSETTO:-0400
TZNAME:EDT
DTSTART:20270314T070000
END:DAYLIGHT
BEGIN:STANDARD
TZOFFSETFROM:-0400
TZOFFSETTO:-0500
TZNAME:EST
DTSTART:20271107T060000
END:STANDARD
END:VTIMEZONE
BEGIN:VEVENT
DTSTART;TZID=America/New_York:20260228T193000
DTEND;TZID=America/New_York:20260228T223000
DTSTAMP:20260422T181123
CREATED:20260226T140852Z
LAST-MODIFIED:20260226T140852Z
UID:30218-1772307000-1772317800@funraiserscomedy.com
SUMMARY:Night of a Thousand Barks Comedy Club Night
DESCRIPTION:Join us on February 28\, 2026 at Cheshire Masonic Lodge at 9 Country Club Road in Cheshire\, CT for a night full of comedy. Water and snacks will be available to purchase to benefit the Fidelco Guide Dog Foundation. Our night features Paul Taro\, viral instagrammer and funniest comic in CT runner up. Hosted by Cheshire’s own Rick Roberts. \nDownload our flyer here: Cheshire Masonic Lodge
URL:https://funraiserscomedy.com/event/night-of-a-thousand-barks-comedy-club-night/
LOCATION:Cheshire Masonic Lodge\, 9 Country Club Road\, Cheshire\, CT\, 06410\, United States
END:VEVENT
BEGIN:VEVENT
DTSTART;TZID=America/New_York:20260307T190000
DTEND;TZID=America/New_York:20260307T220000
DTSTAMP:20260422T181123
CREATED:20260226T142202Z
LAST-MODIFIED:20260226T142423Z
UID:30228-1772910000-1772920800@funraiserscomedy.com
SUMMARY:Connecticut Comedy for Cash Comedy Night
DESCRIPTION:Join us on March 7\, 2026 at the Chris Bargas Golf Club at 175 Shelton Road in Monroe\, CT for a night full of comedy. The headliner\, Billy Winn\, has appeared on VH-1\, A&E\, and Rosie O’Donnell’s stand-up comedy show. Our night features Tony Liberati\, who has been on ABC’s America’s Funniest People and his jokes have been published alongside greats like Chris Rock and Henny Youngman in “The Idiot’s Guide to Joke Telling” by Alpha Publishing. Hosted by Rick Roberts. \nDoors open at 5:00 Dinner at 5:30 Comedy at 7:00 \nDownload our flyer here: Chris Bargas Golf Club
URL:https://funraiserscomedy.com/event/connecticut-comedy-for-cash-comedy-night/
LOCATION:Chris Bargas Golf Club\, 175 Shelton Road\, Monroe\, CT\, 06468\, United States
END:VEVENT
BEGIN:VEVENT
DTSTART;TZID=America/New_York:20260313T193000
DTEND;TZID=America/New_York:20260313T223000
DTSTAMP:20260422T181123
CREATED:20260226T142700Z
LAST-MODIFIED:20260226T142700Z
UID:30231-1773430200-1773441000@funraiserscomedy.com
SUMMARY:Silk 'N Sounds Ha Ha for Harmony Comedy Show
DESCRIPTION:Headliner: Alexandra McHale\, Hosted by Rick Roberts\, Featuring Dave Sheehan \nFlyer \nCash Bar\, BYO Snacks. Will have pies for sale!\nTickets: $30.00\nFor Reservations Contact Carol Roberts: Carobs22@gmail.com \n 
URL:https://funraiserscomedy.com/event/silk-n-sounds-ha-ha-for-harmony-comedy-show/
LOCATION:Knights of Columbus\, 2630 Whitney Ave\, Hamden
END:VEVENT
BEGIN:VEVENT
DTSTART;TZID=America/New_York:20260424T213000
DTEND;TZID=America/New_York:20260425T213000
DTSTAMP:20260422T181123
CREATED:20260226T144114Z
LAST-MODIFIED:20260226T144208Z
UID:30233-1777066200-1777152600@funraiserscomedy.com
SUMMARY:Luigi's Presents: Comedy Nights on April 24 & 25
DESCRIPTION:April 24 and April 25\, 2026. Doors open 8:30\, show 9:30. Featuring Adam Bramson\, Peter Vouras\, Andrew Morrison\, Rick Roberts\, and Vinny McElhone. See flyer below. \nLuigi’s Comedy Night Flyer
URL:https://funraiserscomedy.com/event/luigis-presents-comedy-nights-on-april-24-25/
LOCATION:Luigi’s Restaurant\, 1295 Boston Post Road\, Old Saybrook\, CT\, 06475\, United States
END:VEVENT
BEGIN:VEVENT
DTSTART;TZID=America/New_York:20260425T190000
DTEND;TZID=America/New_York:20260425T220000
DTSTAMP:20260422T181123
CREATED:20260226T144901Z
LAST-MODIFIED:20260226T144932Z
UID:30236-1777143600-1777154400@funraiserscomedy.com
SUMMARY:Cheshire Comedy Night at Masonic Lodge
DESCRIPTION:Come out on April 25th for a wonderful comedy night! \nDoors open at 7:00\, show starts at 8:00. \nHeadliner: Mike Speirs\nAs seen on Showtime and Netflix \nHost: Rick Roberts\nAs seen at Mohegan Sun\, Foxwoods\, Palace Theatre (Waterbury)\, Treehouse Comedy Club \nFeaturing: Pat Dabeir\nAs seen at Funny Bone Comedy Club \nContact Stuart Post at templelodge16comedynight@gmail.com for tickets. \nFlyer
URL:https://funraiserscomedy.com/event/cheshire-comedy-night-at-masonic-lodge/
LOCATION:Cheshire Masonic Lodge\, 9 Country Club Road\, Cheshire\, CT\, 06410\, United States
END:VEVENT
BEGIN:VEVENT
DTSTART;TZID=America/New_York:20260501T190000
DTEND;TZID=America/New_York:20260501T220000
DTSTAMP:20260422T181123
CREATED:20260226T145229Z
LAST-MODIFIED:20260226T145229Z
UID:30239-1777662000-1777672800@funraiserscomedy.com
SUMMARY:Cheshire Rotary Comedy Night
DESCRIPTION:Doors open 7:00\, show is at 8:00. Featuring Mike Hanley\, Howie Mason\, and Rick Roberts. See flyer below. \nCheshire Rotary Flyer
URL:https://funraiserscomedy.com/event/cheshire-rotary-comedy-night-2/
LOCATION:The Reading Room\, 134 Elm Street\, Cheshire\, CT
END:VEVENT
BEGIN:VEVENT
DTSTART;TZID=America/New_York:20260502T190000
DTEND;TZID=America/New_York:20260502T220000
DTSTAMP:20260422T181123
CREATED:20260226T145711Z
LAST-MODIFIED:20260226T145711Z
UID:30241-1777748400-1777759200@funraiserscomedy.com
SUMMARY:Connecticut Comedy for Cash Comedy Night
DESCRIPTION:Doors open at 6:00\, show starts at 7:00. Reach out to Jay Dumals for more information and tickets at 860-836-8243 or jay11dum@gmail.com \nDownload our flyer here: CT Comedy for Cash 05 02 26
URL:https://funraiserscomedy.com/event/connecticut-comedy-for-cash-comedy-night-2/
END:VEVENT
END:VCALENDAR