BEGIN:VCALENDAR
VERSION:2.0
PRODID:-//Funraisers Comedy - ECPv6.15.20//NONSGML v1.0//EN
CALSCALE:GREGORIAN
METHOD:PUBLISH
X-WR-CALNAME:Funraisers Comedy
X-ORIGINAL-URL:https://funraiserscomedy.com
X-WR-CALDESC:Events for Funraisers Comedy
REFRESH-INTERVAL;VALUE=DURATION:PT1H
X-Robots-Tag:noindex
X-PUBLISHED-TTL:PT1H
BEGIN:VTIMEZONE
TZID:America/New_York
BEGIN:DAYLIGHT
TZOFFSETFROM:-0500
TZOFFSETTO:-0400
TZNAME:EDT
DTSTART:20250309T070000
END:DAYLIGHT
BEGIN:STANDARD
TZOFFSETFROM:-0400
TZOFFSETTO:-0500
TZNAME:EST
DTSTART:20251102T060000
END:STANDARD
BEGIN:DAYLIGHT
TZOFFSETFROM:-0500
TZOFFSETTO:-0400
TZNAME:EDT
DTSTART:20260308T070000
END:DAYLIGHT
BEGIN:STANDARD
TZOFFSETFROM:-0400
TZOFFSETTO:-0500
TZNAME:EST
DTSTART:20261101T060000
END:STANDARD
BEGIN:DAYLIGHT
TZOFFSETFROM:-0500
TZOFFSETTO:-0400
TZNAME:EDT
DTSTART:20270314T070000
END:DAYLIGHT
BEGIN:STANDARD
TZOFFSETFROM:-0400
TZOFFSETTO:-0500
TZNAME:EST
DTSTART:20271107T060000
END:STANDARD
END:VTIMEZONE
BEGIN:VEVENT
DTSTART;TZID=America/New_York:20260501T190000
DTEND;TZID=America/New_York:20260501T220000
DTSTAMP:20260423T062925
CREATED:20260226T145229Z
LAST-MODIFIED:20260226T145229Z
UID:30239-1777662000-1777672800@funraiserscomedy.com
SUMMARY:Cheshire Rotary Comedy Night
DESCRIPTION:Doors open 7:00\, show is at 8:00. Featuring Mike Hanley\, Howie Mason\, and Rick Roberts. See flyer below. \nCheshire Rotary Flyer
URL:https://funraiserscomedy.com/event/cheshire-rotary-comedy-night-2/
LOCATION:The Reading Room\, 134 Elm Street\, Cheshire\, CT
END:VEVENT
BEGIN:VEVENT
DTSTART;TZID=America/New_York:20260502T190000
DTEND;TZID=America/New_York:20260502T220000
DTSTAMP:20260423T062925
CREATED:20260226T145711Z
LAST-MODIFIED:20260226T145711Z
UID:30241-1777748400-1777759200@funraiserscomedy.com
SUMMARY:Connecticut Comedy for Cash Comedy Night
DESCRIPTION:Doors open at 6:00\, show starts at 7:00. Reach out to Jay Dumals for more information and tickets at 860-836-8243 or jay11dum@gmail.com \nDownload our flyer here: CT Comedy for Cash 05 02 26
URL:https://funraiserscomedy.com/event/connecticut-comedy-for-cash-comedy-night-2/
END:VEVENT
END:VCALENDAR